BEGIN:VCALENDAR
VERSION:2.0
PRODID:-//eventon.com NONSGML v1.0//EN
CALSCALE:GREGORIAN
METHOD:PUBLISH
BEGIN:VEVENT
UID:69eb5ed7b0d99
DTSTAMP:20260424T081519
DTSTART:20210520T183000Z
DTEND:20210520T200000Z
TZID:America/New_York
LOCATION:
SUMMARY:Swirl\,  Sip & $upport
DESCRIPTION:Virtual Wine Tasting &amp; Charcuterie Master Class\nhttps://dementianc.org/events/swirl-sip-upport/
URL:https://dementianc.org/events/swirl-sip-upport/
END:VEVENT
END:VCALENDAR