BEGIN:VCALENDAR
VERSION:2.0
PRODID:-//eventon.com NONSGML v1.0//EN
CALSCALE:GREGORIAN
METHOD:PUBLISH
BEGIN:VEVENT
UID:69ed748ebec5b
DTSTAMP:20260425T221230
DTSTART:20211023T080000Z
DTEND:20211023T110000Z
TZID:America/New_York
LOCATION:
SUMMARY:Duplin/Greene/Wayne Walk to De-feet Dementia
DESCRIPTION:Downtown Goldsboro\nhttps://dementianc.org/events/duplin-greene-wayne-walk-to-de-feet-dementia/
URL:https://dementianc.org/events/duplin-greene-wayne-walk-to-de-feet-dementia/
END:VEVENT
END:VCALENDAR