BEGIN:VCALENDAR
VERSION:2.0
PRODID:-//eventon.com NONSGML v1.0//EN
CALSCALE:GREGORIAN
METHOD:PUBLISH
BEGIN:VEVENT
UID:69e602d2ed445
DTSTAMP:20260420T064122
DTSTART:20220402T180000Z
DTEND:20220402T213000Z
TZID:America/New_York
LOCATION:
SUMMARY:Salute to Broadway Musicals Gala
DESCRIPTION:Our in-person Gala returns Saturday\,  April 2nd\,  restaged as a timeless evening on Broadway!\nhttps://dementianc.org/events/salute-to-broadway-musicals-gala/
URL:https://dementianc.org/events/salute-to-broadway-musicals-gala/
END:VEVENT
END:VCALENDAR