BEGIN:VCALENDAR
VERSION:2.0
PRODID:-//eventon.com NONSGML v1.0//EN
CALSCALE:GREGORIAN
METHOD:PUBLISH
BEGIN:VEVENT
UID:69e636219ce8d
DTSTAMP:20260420T102017
DTSTART:20220404T130000Z
DTEND:20220404T170000Z
TZID:America/New_York
LOCATION:
SUMMARY:Support Group Facilitator Training
DESCRIPTION:Do you want to lead or start a Support Group?\nhttps://dementianc.org/events/support-group-facilitator-training-4/
URL:https://dementianc.org/events/support-group-facilitator-training-4/
END:VEVENT
END:VCALENDAR