BEGIN:VCALENDAR
VERSION:2.0
PRODID:-//eventon.com NONSGML v1.0//EN
CALSCALE:GREGORIAN
METHOD:PUBLISH
BEGIN:VEVENT
UID:69e4ad1f76ed3
DTSTAMP:20260419T062327
DTSTART:20221022T080000Z
DTEND:20221022T110000Z
TZID:America/New_York
LOCATION:
SUMMARY:Duplin/Greene/Wayne Walk to De-feet Dementia
DESCRIPTION:Saturday\,  October 22\,  2022\nhttps://dementianc.org/events/5115/
URL:https://dementianc.org/events/5115/
END:VEVENT
END:VCALENDAR