BEGIN:VCALENDAR
VERSION:2.0
PRODID:-//eventon.com NONSGML v1.0//EN
CALSCALE:GREGORIAN
METHOD:PUBLISH
BEGIN:VEVENT
UID:69ed728fa6473
DTSTAMP:20260425T220359
DTSTART:20230209T140000Z
DTEND:20230209T160000Z
TZID:America/New_York
LOCATION:
SUMMARY:Community Dementia Seminar
DESCRIPTION:Ask Lisa Anything\nhttps://dementianc.org/events/community-dementia-seminar/
URL:https://dementianc.org/events/community-dementia-seminar/
END:VEVENT
END:VCALENDAR