BEGIN:VCALENDAR
VERSION:2.0
PRODID:-//eventon.com NONSGML v1.0//EN
CALSCALE:GREGORIAN
METHOD:PUBLISH
BEGIN:VEVENT
UID:69e5fd681afd9
DTSTAMP:20260420T061816
DTSTART:20231021T090000Z
DTEND:20231021T120000Z
TZID:America/New_York
LOCATION:
SUMMARY:2023 Duplin/Greene/Wayne Walk to De-feet Dementia
DESCRIPTION:2023 Duplin/Greene/Wayne Walk to De-feet Dementia\nhttps://dementianc.org/events/2023-duplin-greene-wayne-walk-to-de-feet-dementia/
URL:https://dementianc.org/events/2023-duplin-greene-wayne-walk-to-de-feet-dementia/
END:VEVENT
END:VCALENDAR